BEGIN:VCALENDAR
PRODID:-//kirchenweb.ch gmbh//veranstaltungsausgabe v2.0//DE
VERSION:2.0
METHOD:PUBLISH
BEGIN:VEVENT
DTSTART:20261201T073000Z
DTEND:20261201T090000Z
LOCATION:Pfarrhaus\, Seestrasse 16\, 8267 Berlingen
TRANSP:OPAQUE
SEQUENCE:0
UID:35921-veranstaltung@kirchgemeinde.ch
DTSTAMP:20251111T065321Z
DESCRIPTION:Kontakt: Pfrn. Susi Kündig-Koch\n\nWeitere Infos:
  https://www.kirchgemeinde.ch/veranstaltung/35921
SUMMARY:Reden über GOTT in der Welt - die etwas andere Gesprächsrunde
PRIORITY:5
X-MICROSOFT-CDO-IMPORTANCE:1
CLASS:PUBLIC
END:VEVENT
END:VCALENDAR
