BEGIN:VCALENDAR
PRODID:-//kirchenweb.ch gmbh//veranstaltungsausgabe v2.0//DE
VERSION:2.0
METHOD:PUBLISH
BEGIN:VEVENT
DTSTART:20261021T120000Z
DTEND:20261021T150000Z
LOCATION:Unterseehalle\, \,
TRANSP:OPAQUE
SEQUENCE:0
UID:35925-veranstaltung@kirchgemeinde.ch
DTSTAMP:20251111T071453Z
DESCRIPTION:Kontakt: Pfrn. Susi Kündig-Koch\n\nWeitere Infos:
  https://www.kirchgemeinde.ch/veranstaltung/35925
SUMMARY:Ökum. Seniorennachmittag
PRIORITY:5
X-MICROSOFT-CDO-IMPORTANCE:1
CLASS:PUBLIC
END:VEVENT
END:VCALENDAR
