BEGIN:VCALENDAR
PRODID:-//kirchenweb.ch gmbh//veranstaltungsausgabe v2.0//DE
VERSION:2.0
METHOD:PUBLISH
BEGIN:VEVENT
DTSTART:20261209T130000Z
DTEND:20261209T160000Z
LOCATION:Unterseehalle\, \,
TRANSP:OPAQUE
SEQUENCE:0
UID:35926-veranstaltung@kirchgemeinde.ch
DTSTAMP:20251111T071542Z
DESCRIPTION:Kontakt: Pfrn. Susi Kündig-Koch\n\nWeitere Infos:
  https://www.kirchgemeinde.ch/veranstaltung/35926
SUMMARY:Ökum. Seniorennachmittag
PRIORITY:5
X-MICROSOFT-CDO-IMPORTANCE:1
CLASS:PUBLIC
END:VEVENT
END:VCALENDAR
