BEGIN:VCALENDAR
PRODID:-//kirchenweb.ch gmbh//veranstaltungsausgabe v2.0//DE
VERSION:2.0
METHOD:PUBLISH
BEGIN:VEVENT
DTSTART:20260509T080000Z
DTEND:20260509T090000Z
LOCATION:Kirche\, Seestrasse\, 8267 Berlingen
TRANSP:OPAQUE
SEQUENCE:0
UID:36409-veranstaltung@kirchgemeinde.ch
DTSTAMP:20260228T114819Z
DESCRIPTION:Kontakt: Sandra Flück \nTel. 052 741 57 31\n\nWeitere Infos:
  https://www.kirchgemeinde.ch/veranstaltung/36409
SUMMARY:Chrabbelfiir
PRIORITY:5
X-MICROSOFT-CDO-IMPORTANCE:1
CLASS:PUBLIC
END:VEVENT
END:VCALENDAR
