BEGIN:VCALENDAR
PRODID:-//kirchenweb.ch gmbh//veranstaltungsausgabe v2.0//DE
VERSION:2.0
METHOD:PUBLISH
BEGIN:VEVENT
DTSTART:20260606T150000Z
DTEND:20260606T180000Z
LOCATION:Schulhaus\, Schulstrasse 1\, 8267 Berlingen
TRANSP:OPAQUE
SEQUENCE:0
UID:36412-veranstaltung@kirchgemeinde.ch
DTSTAMP:20260228T115112Z
DESCRIPTION:Kontakt: Sandra Flück \nTel. 052 741 57 31\n\nWeitere Infos:
  https://www.kirchgemeinde.ch/veranstaltung/36412
SUMMARY:Chrabbelfiir - Sommerfest
PRIORITY:5
X-MICROSOFT-CDO-IMPORTANCE:1
CLASS:PUBLIC
END:VEVENT
END:VCALENDAR
